BEGIN:VCALENDAR
VERSION:2.0
PRODID:spatie/icalendar-generator
DESCRIPTION:Events from                         
X-WR-CALDESC:Events from                         
REFRESH-INTERVAL;VALUE=DURATION:PT1440M
X-PUBLISHED-TTL:PT1440M
BEGIN:VTIMEZONE
TZID:America/Toronto
BEGIN:STANDARD
DTSTART:20251102T020000Z
TZOFFSETFROM:-0400
TZOFFSETTO:-0500
END:STANDARD
BEGIN:DAYLIGHT
DTSTART:20260308T020000Z
TZOFFSETFROM:-0500
TZOFFSETTO:-0400
END:DAYLIGHT
END:VTIMEZONE
BEGIN:VTIMEZONE
TZID:UTC
BEGIN:STANDARD
DTSTART:20250725T081114Z
TZOFFSETFROM:+0000
TZOFFSETTO:+0000
END:STANDARD
END:VTIMEZONE
BEGIN:VEVENT
UID:28-19
DTSTAMP:20260421T081114Z
SUMMARY:Movie Night - Lilo and Stitch (2025)
LOCATION:Bob Monette Community Center  1485 Duford Drive  Ottawa ON
ORGANIZER;CN=admin:MAILTO:admin@qhca.ca
DTSTART;TZID=America/Toronto:20260418T190000
DTEND;TZID=America/Toronto:20260418T220000
X-ALT-DESC;FMTTYPE=TEXT/HTML:<p>This movie is being presented in English.</
 p>\n
CATEGORIES:General
URL;VALUE=URI:https://qhca.ca/?mc-events=movie-night-lilo-and-stitch-2025
METHOD:PUBLISH
END:VEVENT
END:VCALENDAR